BEGIN:VCALENDAR
PRODID:-//eluceo/ical//2.0/EN
VERSION:2.0
CALSCALE:GREGORIAN
BEGIN:VEVENT
UID:413357cefc5c00bf0c23bbf4027eb14d
DTSTAMP:20260424T202317Z
SUMMARY:6PM Torah Academy Board of Directors Meeting
DESCRIPTION:Jewish Federation & Foundation of Northeast Florida\nCommunity 
 agencies\, synagogues\, schools\nhttps://jewishjacksonville.org/jewish-com
 munity-information/6pm-torah-academy-board-of-directors-meeting-73478\n\nM
 eetings will be at the home of Sandi Roth. For address and directions\, as
  well as any questions\, please call Dr. Joshua Wise at The Torah Academy 
 904-268-7719.
DTSTART;TZID=America/New_York:20141021T180000
DTEND;TZID=America/New_York:20141021T193000
END:VEVENT
END:VCALENDAR
