BEGIN:VCALENDAR
PRODID:-//eluceo/ical//2.0/EN
VERSION:2.0
CALSCALE:GREGORIAN
BEGIN:VEVENT
UID:52ed0b88e4acd353e120f5ac2e08cdbb
DTSTAMP:20260423T010333Z
SUMMARY:6PM Torah Academy Board of Directors Meeting
DESCRIPTION:Jewish Federation & Foundation of Northeast Florida\nCommunity 
 agencies\, synagogues\, schools\nhttps://jewishjacksonville.org/jewish-com
 munity-information/6pm-torah-academy-board-of-directors-meeting-73477\n\nM
 eetings will be at the home of Sandi Roth. For address and directions\, as
  well as any questions\, please call Dr. Joshua Wise at The Torah Academy 
 904-268-7719.
DTSTART;TZID=America/New_York:20140821T180000
DTEND;TZID=America/New_York:20140821T193000
END:VEVENT
END:VCALENDAR
