BEGIN:VCALENDAR
PRODID:-//eluceo/ical//2.0/EN
VERSION:2.0
CALSCALE:GREGORIAN
BEGIN:VEVENT
UID:cc1e0cb29726a4c1af0f0f4181f076be
DTSTAMP:20260425T133205Z
SUMMARY:6PM Temple Jax Children's Treble Choir
DESCRIPTION:Jewish Federation & Foundation of Northeast Florida\nCommunity 
 agencies\, synagogues\, schools\nhttps://jewishjacksonville.org/jewish-com
 munity-information/6pm-temple-jax-childrens-treble-choir1-157048\n\nJax Ch
 ildren's Treble Choir
DTSTART;TZID=America/New_York:20150910T180000
DTEND;TZID=America/New_York:20150910T200000
END:VEVENT
END:VCALENDAR
