BEGIN:VCALENDAR
PRODID:-//eluceo/ical//2.0/EN
VERSION:2.0
CALSCALE:GREGORIAN
BEGIN:VEVENT
UID:d4f347dc079741907ffd3fb1f22c6275
DTSTAMP:20260422T193509Z
SUMMARY:6PM Temple Family Shabbat
DESCRIPTION:Jewish Federation & Foundation of Northeast Florida\nCommunity 
 agencies\, synagogues\, schools\nhttps://jewishjacksonville.org/jewish-com
 munity-information/6pm-temple-family-shabbat-157089\n\nFamily Shabbat
DTSTART;TZID=America/New_York:20150918T180000
DTEND;TZID=America/New_York:20150918T190000
END:VEVENT
END:VCALENDAR
