BEGIN:VCALENDAR
PRODID:-//eluceo/ical//2.0/EN
VERSION:2.0
CALSCALE:GREGORIAN
BEGIN:VEVENT
UID:694e1d78699d7eb9c060d9006526e922
DTSTAMP:20260424T145929Z
SUMMARY:6PM Jewish National Fund Bernard Selevan Tree of Life Award Dinner
DESCRIPTION:Jewish Federation & Foundation of Northeast Florida\nCommunity 
 agencies\, synagogues\, schools\nhttps://jewishjacksonville.org/jewish-com
 munity-information/6pm-jewish-national-fund-bernard-selevan-tree-of-life-a
 ward-dinner-80834\n\nJNF will be honoring Harry and Lilo Frisch with the 
 Lifetime Achievement Award.
DTSTART;TZID=America/New_York:20141021T180000
DTEND;TZID=America/New_York:20141021T210000
END:VEVENT
END:VCALENDAR
