BEGIN:VCALENDAR
PRODID:-//eluceo/ical//2.0/EN
VERSION:2.0
CALSCALE:GREGORIAN
BEGIN:VEVENT
UID:d5dcf857caa433966608ea79419c9612
DTSTAMP:20260419T172656Z
SUMMARY:6:45 PM Torah Academy Board Meeting
DESCRIPTION:Jewish Federation & Foundation of Northeast Florida\nCommunity 
 agencies\, synagogues\, schools\nhttps://jewishjacksonville.org/jewish-com
 munity-information/645-pm-torah-academy-board-meeting-2-154744\n\nTorah Ac
 ademy Board Meeting
DTSTART;TZID=America/New_York:20160519T184500
DTEND;TZID=America/New_York:20160519T194500
END:VEVENT
END:VCALENDAR
