BEGIN:VCALENDAR
PRODID:-//eluceo/ical//2.0/EN
VERSION:2.0
CALSCALE:GREGORIAN
BEGIN:VEVENT
UID:d00c2f7428709b2e3e6d994449c11231
DTSTAMP:20260423T023723Z
SUMMARY:6:45 PM Torah Academy Board Meeting
DESCRIPTION:Jewish Federation & Foundation of Northeast Florida\nCommunity 
 agencies\, synagogues\, schools\nhttps://jewishjacksonville.org/jewish-com
 munity-information/645-pm-torah-academy-board-meeting-154738\n\nTorah Acad
 emy Board Meeting
DTSTART;TZID=America/New_York:20160114T184500
DTEND;TZID=America/New_York:20160114T194500
END:VEVENT
END:VCALENDAR
