BEGIN:VCALENDAR
PRODID:-//eluceo/ical//2.0/EN
VERSION:2.0
CALSCALE:GREGORIAN
BEGIN:VEVENT
UID:bf7aed2f4352756f2603631df9e64ec2
DTSTAMP:20260423T010413Z
SUMMARY:6:30PM River Garden Admissions Committee Meeting
DESCRIPTION:Jewish Federation & Foundation of Northeast Florida\nCommunity 
 agencies\, synagogues\, schools\nhttps://jewishjacksonville.org/jewish-com
 munity-information/630pm-river-garden-admissions-committee-meeting-105966\
 n\nAdmissions Committee Board Meeting
DTSTART;TZID=America/New_York:20150622T183000
DTEND;TZID=America/New_York:20150622T193000
END:VEVENT
END:VCALENDAR
