BEGIN:VCALENDAR
PRODID:-//eluceo/ical//2.0/EN
VERSION:2.0
CALSCALE:GREGORIAN
BEGIN:VEVENT
UID:9f4f7fcda46649f29a65dc77103a0596
DTSTAMP:20260424T201944Z
SUMMARY:6:30PM JJC Shemah at Bedtime
DESCRIPTION:Jewish Federation & Foundation of Northeast Florida\nCommunity 
 agencies\, synagogues\, schools\nhttps://jewishjacksonville.org/jewish-com
 munity-information/630pm-jjc-shemah-at-bedtime\n\n6:30PM JJC Shemah at Bed
 time
DTSTART;TZID=America/New_York:20140123T183000
DTEND;TZID=America/New_York:20140123T193000
END:VEVENT
END:VCALENDAR
