BEGIN:VCALENDAR
PRODID:-//eluceo/ical//2.0/EN
VERSION:2.0
CALSCALE:GREGORIAN
BEGIN:VEVENT
UID:9cb95f358ba0748496b67225c770697f
DTSTAMP:20260423T135536Z
SUMMARY:6:30PM Foundation Board Meeting
DESCRIPTION:Jewish Federation & Foundation of Northeast Florida\nCommunity 
 agencies\, synagogues\, schools\nhttps://jewishjacksonville.org/jewish-com
 munity-information/630pm-foundation-board-meeting-September-147428\n\nJewi
 sh Community Foundation of NE Florida Board of Directors Meeting. 6:30 p.m
 . at the Foundation offices.
DTSTART;TZID=America/New_York:20150909T183000
DTEND;TZID=America/New_York:20150909T200000
END:VEVENT
END:VCALENDAR
