BEGIN:VCALENDAR
PRODID:-//eluceo/ical//2.0/EN
VERSION:2.0
CALSCALE:GREGORIAN
BEGIN:VEVENT
UID:941ac042d471bdca0cefec4587b932ef
DTSTAMP:20260420T150353Z
SUMMARY:6:30PM Foundation Board Meeting
DESCRIPTION:Jewish Federation & Foundation of Northeast Florida\nCommunity 
 agencies\, synagogues\, schools\nhttps://jewishjacksonville.org/jewish-com
 munity-information/630pm-foundation-board-meeting-147426\n\nJewish Communi
 ty Foundation of NE Florida Board of Directors Meeting. 6:30 p.m. at the F
 oundation offices.
DTSTART;TZID=America/New_York:20150715T183000
DTEND;TZID=America/New_York:20150715T203000
END:VEVENT
END:VCALENDAR
