BEGIN:VCALENDAR
PRODID:-//eluceo/ical//2.0/EN
VERSION:2.0
CALSCALE:GREGORIAN
BEGIN:VEVENT
UID:493d85da6616e7bab4fee5c7ad398ad3
DTSTAMP:20260422T103434Z
SUMMARY:6:30PM Etz Chaim Yom Hashoah Event
DESCRIPTION:Jewish Federation & Foundation of Northeast Florida\nCommunity 
 agencies\, synagogues\, schools\nhttps://jewishjacksonville.org/jewish-com
 munity-information/630pm-etz-chaim-yom-hashoah-event-135904\n\nYom Hashoah
  program. Entire Jewish community welcome to attend.
DTSTART;TZID=America/New_York:20150415T183000
DTEND;TZID=America/New_York:20150415T210000
END:VEVENT
END:VCALENDAR
