BEGIN:VCALENDAR
PRODID:-//eluceo/ical//2.0/EN
VERSION:2.0
CALSCALE:GREGORIAN
BEGIN:VEVENT
UID:1be0df5ef6679876a7ea6792ecd39916
DTSTAMP:20260423T010343Z
SUMMARY:6:30 PM River Garden Admissions Committee Meeting
DESCRIPTION:Jewish Federation & Foundation of Northeast Florida\nCommunity 
 agencies\, synagogues\, schools\nhttps://jewishjacksonville.org/jewish-com
 munity-information/630-pm-river-garden-admissions-committee-meeting-105963
 \n\nAdmissions Committee Meeting
DTSTART;TZID=America/New_York:20141124T183000
DTEND;TZID=America/New_York:20141124T193000
END:VEVENT
END:VCALENDAR
