BEGIN:VCALENDAR
PRODID:-//eluceo/ical//2.0/EN
VERSION:2.0
CALSCALE:GREGORIAN
BEGIN:VEVENT
UID:8e161b02c9606447f1c15457a8629a0e
DTSTAMP:20260422T105005Z
SUMMARY:6:00PM Federation Board Meeting
DESCRIPTION:Jewish Federation & Foundation of Northeast Florida\nCommunity 
 agencies\, synagogues\, schools\nhttps://jewishjacksonville.org/jewish-com
 munity-information/600pmMay21-federation-board-meeting-275631\n\nFederatio
 n Board Meeting\n\n6:00 PM
DTSTART;TZID=America/New_York:20190521T180000
DTEND;TZID=America/New_York:20190521T193000
END:VEVENT
END:VCALENDAR
