BEGIN:VCALENDAR
PRODID:-//eluceo/ical//2.0/EN
VERSION:2.0
CALSCALE:GREGORIAN
BEGIN:VEVENT
UID:142a536127224488cd7f5bbc5383514a
DTSTAMP:20260420T214504Z
SUMMARY:6:00 PM Torah Academy Board Meeting
DESCRIPTION:Jewish Federation & Foundation of Northeast Florida\nCommunity 
 agencies\, synagogues\, schools\nhttps://jewishjacksonville.org/jewish-com
 munity-information/600-pm-torah-academy-board-meeting-154733\n\nTorah Acad
 emy Board Meeting
DTSTART;TZID=America/New_York:20150917T180000
DTEND;TZID=America/New_York:20150917T190000
END:VEVENT
END:VCALENDAR
