BEGIN:VCALENDAR
PRODID:-//eluceo/ical//2.0/EN
VERSION:2.0
CALSCALE:GREGORIAN
BEGIN:VEVENT
UID:12313433606f767f6885c723fcf3005d
DTSTAMP:20260425T201550Z
SUMMARY:6:00 PM Federation Board Meeting
DESCRIPTION:Jewish Federation & Foundation of Northeast Florida\nCommunity 
 agencies\, synagogues\, schools\nhttps://jewishjacksonville.org/jewish-com
 munity-information/600-pm-federation-board-meeting-d-226653\n\nJewish Fede
 ration of Jacksonville Board Meeting
DTSTART;TZID=America/New_York:20180125T180000
DTEND;TZID=America/New_York:20180125T200000
END:VEVENT
END:VCALENDAR
