BEGIN:VCALENDAR
PRODID:-//eluceo/ical//2.0/EN
VERSION:2.0
CALSCALE:GREGORIAN
BEGIN:VEVENT
UID:aeeeee0661f25f17a2e4ca74fc6ee4b4
DTSTAMP:20260421T020953Z
SUMMARY:12AM JJC Bat Mitzvah
DESCRIPTION:Jewish Federation & Foundation of Northeast Florida\nCommunity 
 agencies\, synagogues\, schools\nhttps://jewishjacksonville.org/jewish-com
 munity-information/60-bat-mitzvah-80840\n\nCongregational Bat Mitzvah
DTSTART;TZID=America/New_York:20141031T000000
DTEND;TZID=America/New_York:20141101T235500
END:VEVENT
END:VCALENDAR
