BEGIN:VCALENDAR
PRODID:-//eluceo/ical//2.0/EN
VERSION:2.0
CALSCALE:GREGORIAN
BEGIN:VEVENT
UID:80dbf22045c1a2c333d6335d9c27b63c
DTSTAMP:20260421T193908Z
SUMMARY:5PM Foundation "Life & Legacy" training with Arlene Schiff
DESCRIPTION:Jewish Federation & Foundation of Northeast Florida\nCommunity 
 agencies\, synagogues\, schools\nhttps://jewishjacksonville.org/jewish-com
 munity-information/5pm-foundation-create-a-jewish-legacy-training-with-arl
 ene-schiff-158385\n\nJewish Community Foundation of NE Florida "Create a 
 Jewish Legacy" training with Arlene Schiff.
DTSTART;TZID=America/New_York:20160106T190000
DTEND;TZID=America/New_York:20160106T210000
END:VEVENT
END:VCALENDAR
