BEGIN:VCALENDAR
PRODID:-//eluceo/ical//2.0/EN
VERSION:2.0
CALSCALE:GREGORIAN
BEGIN:VEVENT
UID:9c3add06cb1b7fcd529546b6c2221be7
DTSTAMP:20260425T115200Z
SUMMARY:5:30PM High Holy Days - Family Simhat Torah Celebration
DESCRIPTION:Jewish Federation & Foundation of Northeast Florida\nCommunity 
 agencies\, synagogues\, schools\nhttps://jewishjacksonville.org/jewish-com
 munity-information/530pm-high-holy-days---family-simhat-torah-celebration\
 n\n5:30PM JJC Family Simhat Torah Celebration
DTSTART;TZID=America/New_York:20130926T173000
DTEND;TZID=America/New_York:20130926T190000
END:VEVENT
END:VCALENDAR
