BEGIN:VCALENDAR
PRODID:-//eluceo/ical//2.0/EN
VERSION:2.0
CALSCALE:GREGORIAN
BEGIN:VEVENT
UID:eeb35fa77808b326c97d3e54649a3046
DTSTAMP:20260420T034313Z
SUMMARY:5:30P Jewish Community Foundation B'nai Tzedek Youth Philanthropy E
 vent CAN
DESCRIPTION:Jewish Federation & Foundation of Northeast Florida\nCommunity 
 agencies\, synagogues\, schools\nhttps://jewishjacksonville.org/jewish-com
 munity-information/530p-jewish-community-foundation-bnai-tzedek-youth-phil
 anthropy-event-cancelled\n\n5:30P Jewish Fndn B'nai Tzedek Event CANCELLED
DTSTART;TZID=America/New_York:20131001T173000
DTEND;TZID=America/New_York:20131001T193000
END:VEVENT
END:VCALENDAR
