BEGIN:VCALENDAR
PRODID:-//eluceo/ical//2.0/EN
VERSION:2.0
CALSCALE:GREGORIAN
BEGIN:VEVENT
UID:87ac30785ffd0f81554c895314d78ba1
DTSTAMP:20260423T162224Z
SUMMARY:5:30 River Garden Senior Services Board Meeting
DESCRIPTION:Jewish Federation & Foundation of Northeast Florida\nCommunity 
 agencies\, synagogues\, schools\nhttps://jewishjacksonville.org/jewish-com
 munity-information/530-river-garden-senior-services-board-meeting\n\n5:30 
 River Garden Senior Services Board Meeting
DTSTART;TZID=America/New_York:20130923T173000
DTEND;TZID=America/New_York:20130923T183000
END:VEVENT
END:VCALENDAR
