BEGIN:VCALENDAR
PRODID:-//eluceo/ical//2.0/EN
VERSION:2.0
CALSCALE:GREGORIAN
BEGIN:VEVENT
UID:55b6c8ec026f7e6a05058048876ff4b0
DTSTAMP:20260425T175725Z
SUMMARY:4PM JJC Board Meeting
DESCRIPTION:Jewish Federation & Foundation of Northeast Florida\nCommunity 
 agencies\, synagogues\, schools\nhttps://jewishjacksonville.org/jewish-com
 munity-information/4pm-jjc-board-meeting\n\n4PM JJC Board Meeting
DTSTART;TZID=America/New_York:20140227T160000
DTEND;TZID=America/New_York:20140227T170000
END:VEVENT
END:VCALENDAR
