BEGIN:VCALENDAR
PRODID:-//eluceo/ical//2.0/EN
VERSION:2.0
CALSCALE:GREGORIAN
BEGIN:VEVENT
UID:cab6b53acaefea58a05bed7393b2b1bf
DTSTAMP:20260420T114908Z
SUMMARY:4PM JJC Bereavement Support Group
DESCRIPTION:Jewish Federation & Foundation of Northeast Florida\nCommunity 
 agencies\, synagogues\, schools\nhttps://jewishjacksonville.org/jewish-com
 munity-information/4pm-jjc-bereavement-support-group63-79254\n\nBereavemen
 t Support Group meets
DTSTART;TZID=America/New_York:20140730T160000
DTEND;TZID=America/New_York:20140730T180000
END:VEVENT
END:VCALENDAR
