BEGIN:VCALENDAR
PRODID:-//eluceo/ical//2.0/EN
VERSION:2.0
CALSCALE:GREGORIAN
BEGIN:VEVENT
UID:bac7ed83547cbe7b4ceb0d9dd0f57289
DTSTAMP:20260425T133507Z
SUMMARY:1PM WRJ Temple Sisterhood Presents
DESCRIPTION:Jewish Federation & Foundation of Northeast Florida\nCommunity 
 agencies\, synagogues\, schools\nhttps://jewishjacksonville.org/jewish-com
 munity-information/1pm-wrj-temple-sisterhood-presents-123191\n\nWRJ Temple
  Sisterhood presents:\n\n \n\n"Let Our People Go" Modern Slavery: Human T
 rafficking in our World Today\n\nvideo and panel discussion
DTSTART;TZID=America/New_York:20150208T130000
DTEND;TZID=America/New_York:20150208T160000
END:VEVENT
END:VCALENDAR
