BEGIN:VCALENDAR
PRODID:-//eluceo/ical//2.0/EN
VERSION:2.0
CALSCALE:GREGORIAN
BEGIN:VEVENT
UID:8d463cee0bd71b13c0caa427478e60fb
DTSTAMP:20260423T152808Z
SUMMARY:1PM Temple Tashlich
DESCRIPTION:Jewish Federation & Foundation of Northeast Florida\nCommunity 
 agencies\, synagogues\, schools\nhttps://jewishjacksonville.org/jewish-com
 munity-information/1pm-temple-tashlich-157084\n\nTashlich
DTSTART;TZID=America/New_York:20150914T130000
DTEND;TZID=America/New_York:20150914T133000
END:VEVENT
END:VCALENDAR
