BEGIN:VCALENDAR
PRODID:-//eluceo/ical//2.0/EN
VERSION:2.0
CALSCALE:GREGORIAN
BEGIN:VEVENT
UID:dbd7d8e1352c071746bd4765da474667
DTSTAMP:20260422T121436Z
SUMMARY:1PM JFCS Holocaust Family Gathering
DESCRIPTION:Jewish Federation & Foundation of Northeast Florida\nCommunity 
 agencies\, synagogues\, schools\nhttps://jewishjacksonville.org/jewish-com
 munity-information/1pm-jfcs-holocaust-family-gathering\n\n1PM JFCS Holocau
 st Family Gathering
DTSTART;TZID=America/New_York:20140209T140000
DTEND;TZID=America/New_York:20140209T160000
END:VEVENT
END:VCALENDAR
