BEGIN:VCALENDAR
PRODID:-//eluceo/ical//2.0/EN
VERSION:2.0
CALSCALE:GREGORIAN
BEGIN:VEVENT
UID:d6f9a5e258cd610fca819dc8d11b3e7e
DTSTAMP:20260422T115930Z
SUMMARY:1PM JFCS Holocaust Chanukah Gathering
DESCRIPTION:Jewish Federation & Foundation of Northeast Florida\nCommunity 
 agencies\, synagogues\, schools\nhttps://jewishjacksonville.org/jewish-com
 munity-information/1pm-jfcs-holocaust-chanukah-gathering\n\n1PM JFCS Holoc
 aust Chanukah Gathering
DTSTART;TZID=America/New_York:20131208T130000
DTEND;TZID=America/New_York:20131208T143000
END:VEVENT
END:VCALENDAR
