BEGIN:VCALENDAR
PRODID:-//eluceo/ical//2.0/EN
VERSION:2.0
CALSCALE:GREGORIAN
BEGIN:VEVENT
UID:46a574cde883dea8ab28609e8808ea13
DTSTAMP:20260422T123013Z
SUMMARY:1PM Florida/Georgia Game
DESCRIPTION:Jewish Federation & Foundation of Northeast Florida\nCommunity 
 agencies\, synagogues\, schools\nhttps://jewishjacksonville.org/jewish-com
 munity-information/1pm-florida-georgia-game\n\n1PM Florida/Georgia Game
DTSTART;TZID=America/New_York:20131102T000000
DTEND;TZID=America/New_York:20131102T235900
END:VEVENT
END:VCALENDAR
