BEGIN:VCALENDAR
PRODID:-//eluceo/ical//2.0/EN
VERSION:2.0
CALSCALE:GREGORIAN
BEGIN:VEVENT
UID:ec9c2ca88f738380cc650febd27056b0
DTSTAMP:20260425T225559Z
SUMMARY:1:30PM Temple Torah Trek
DESCRIPTION:Jewish Federation & Foundation of Northeast Florida\nCommunity 
 agencies\, synagogues\, schools\nhttps://jewishjacksonville.org/jewish-com
 munity-information/130pm-temple-torah-trek\n\nEnjoy God’s bounty and sha
 re in the joy of Shabbat as we stroll through the Arlington Arboretum (144
 5 \nMillcoe Road\, Jax). Let us discover the connection between Torah and
  nature. No prior Torah knowledge \nrequired. Wear comfortable shoes and 
 come prepared for an adventure! Contact Susan Board at \nboard.s3304@gmai
 l.com for more information. \n\n 
DTSTART;TZID=America/New_York:20140308T133000
DTEND;TZID=America/New_York:20140308T163000
END:VEVENT
END:VCALENDAR
