BEGIN:VCALENDAR
PRODID:-//eluceo/ical//2.0/EN
VERSION:2.0
CALSCALE:GREGORIAN
BEGIN:VEVENT
UID:c0f984c2094a080765b7ef5b08ac07c3
DTSTAMP:20260424T015504Z
SUMMARY:12AM Temple Bat Mitzvah
DESCRIPTION:Jewish Federation & Foundation of Northeast Florida\nCommunity 
 agencies\, synagogues\, schools\nhttps://jewishjacksonville.org/jewish-com
 munity-information/12am-temple-bat-mitzvah7-151466\n\nTemple Bat Mitzvah
DTSTART;TZID=America/New_York:20160311T000000
DTEND;TZID=America/New_York:20160312T235500
END:VEVENT
END:VCALENDAR
