BEGIN:VCALENDAR
PRODID:-//eluceo/ical//2.0/EN
VERSION:2.0
CALSCALE:GREGORIAN
BEGIN:VEVENT
UID:2dc6d202759ee60ea801e9c9c94b5971
DTSTAMP:20260424T110725Z
SUMMARY:12AM Temple Bat Mitzvah
DESCRIPTION:Jewish Federation & Foundation of Northeast Florida\nCommunity 
 agencies\, synagogues\, schools\nhttps://jewishjacksonville.org/jewish-com
 munity-information/12am-temple-bat-mitzvah4-151463\n\nTemple Bat Mitzvah
DTSTART;TZID=America/New_York:20151218T000000
DTEND;TZID=America/New_York:20151219T235500
END:VEVENT
END:VCALENDAR
