BEGIN:VCALENDAR
PRODID:-//eluceo/ical//2.0/EN
VERSION:2.0
CALSCALE:GREGORIAN
BEGIN:VEVENT
UID:491b0ac83af4ba9bbd967463961f6609
DTSTAMP:20260425T232357Z
SUMMARY:12AM Temple Bar Mitzvah
DESCRIPTION:Jewish Federation & Foundation of Northeast Florida\nCommunity 
 agencies\, synagogues\, schools\nhttps://jewishjacksonville.org/jewish-com
 munity-information/12am-temple-bar-mitzvah9-151476\n\nTemple Bar Mitzvah
DTSTART;TZID=America/New_York:20160902T000000
DTEND;TZID=America/New_York:20160903T235500
END:VEVENT
END:VCALENDAR
