BEGIN:VCALENDAR
PRODID:-//eluceo/ical//2.0/EN
VERSION:2.0
CALSCALE:GREGORIAN
BEGIN:VEVENT
UID:0165aa1e98c482d59d51e318dbce37f2
DTSTAMP:20260425T133327Z
SUMMARY:12AM JJC Lifestyle Event - Chisholm B'nai Mitzvah
DESCRIPTION:Jewish Federation & Foundation of Northeast Florida\nCommunity 
 agencies\, synagogues\, schools\nhttps://jewishjacksonville.org/jewish-com
 munity-information/12am-jjc-lifestyle-event---chisholm-bnai-mitzvah\n\n12A
 M Chisholm B'nai Mitzvah
DTSTART;TZID=America/New_York:20131101T000000
DTEND;TZID=America/New_York:20131101T235900
END:VEVENT
END:VCALENDAR
