BEGIN:VCALENDAR
PRODID:-//eluceo/ical//2.0/EN
VERSION:2.0
CALSCALE:GREGORIAN
BEGIN:VEVENT
UID:34d44f6bf47995d325ce370b435b85fc
DTSTAMP:20260423T023703Z
SUMMARY:12AM JJC Lifecycle Events - Schemer Bat Mitzvah
DESCRIPTION:Jewish Federation & Foundation of Northeast Florida\nCommunity 
 agencies\, synagogues\, schools\nhttps://jewishjacksonville.org/jewish-com
 munity-information/12am-jjc-lifecycle-events---schemer-bat-mitzvah\n\n12AM
  Schemer Bat Mitzvah
DTSTART;TZID=America/New_York:20140221T000000
DTEND;TZID=America/New_York:20140221T235900
END:VEVENT
END:VCALENDAR
