BEGIN:VCALENDAR
PRODID:-//eluceo/ical//2.0/EN
VERSION:2.0
CALSCALE:GREGORIAN
BEGIN:VEVENT
UID:37e30e9e4376c7f59123e43c57b05ce5
DTSTAMP:20260420T214806Z
SUMMARY:12AM JJC Lifecycle Event - Howard Bat Mitzvah
DESCRIPTION:Jewish Federation & Foundation of Northeast Florida\nCommunity 
 agencies\, synagogues\, schools\nhttps://jewishjacksonville.org/jewish-com
 munity-information/12am-jjc-lifecycle-event---howard-bat-mitzvah\n\n12AM H
 oward Bat Mitzvah
DTSTART;TZID=America/New_York:20140307T000000
DTEND;TZID=America/New_York:20140307T235900
END:VEVENT
END:VCALENDAR
