BEGIN:VCALENDAR
PRODID:-//eluceo/ical//2.0/EN
VERSION:2.0
CALSCALE:GREGORIAN
BEGIN:VEVENT
UID:e45b70ffa36243fc1320576de5656ce1
DTSTAMP:20260424T060730Z
SUMMARY:12:30PM JJC B'nei Mitzvah Program - Issues of Choice
DESCRIPTION:Jewish Federation & Foundation of Northeast Florida\nCommunity 
 agencies\, synagogues\, schools\nhttps://jewishjacksonville.org/jewish-com
 munity-information/1230pm-jjc-bnei-mitzvah-program---issues-of-choice\n\n1
 2:30PM JJC B'nei Mitzvah - Issues of Choice
DTSTART;TZID=America/New_York:20131116T123000
DTEND;TZID=America/New_York:20131116T133000
END:VEVENT
END:VCALENDAR
