BEGIN:VCALENDAR
PRODID:-//eluceo/ical//2.0/EN
VERSION:2.0
CALSCALE:GREGORIAN
BEGIN:VEVENT
UID:217a31c533ff007c74ba98040f0de69a
DTSTAMP:20260421T014008Z
SUMMARY:11AM JJC BASRS Hanukkah Program
DESCRIPTION:Jewish Federation & Foundation of Northeast Florida\nCommunity 
 agencies\, synagogues\, schools\nhttps://jewishjacksonville.org/jewish-com
 munity-information/11am-jjc-basrs-hanukkah-program\n\n11AM JJC BASRS Hanuk
 kah Program
DTSTART;TZID=America/New_York:20131124T110000
DTEND;TZID=America/New_York:20131124T120000
END:VEVENT
END:VCALENDAR
