BEGIN:VCALENDAR
PRODID:-//eluceo/ical//2.0/EN
VERSION:2.0
CALSCALE:GREGORIAN
BEGIN:VEVENT
UID:0da387b0ac482c30425feddb06e06870
DTSTAMP:20260425T163717Z
SUMMARY:11AM B'Nei Mitzvah Program - B'tzelem Elojim - 6th Graders and Fami
 lies
DESCRIPTION:Jewish Federation & Foundation of Northeast Florida\nCommunity 
 agencies\, synagogues\, schools\nhttps://jewishjacksonville.org/jewish-com
 munity-information/11am-bnei-mitzvah-program---btzelem-elojim---6th-grader
 s-and-families\n\n11AM B'tzelem Elojim - 6th Graders and Families
DTSTART;TZID=America/New_York:20131020T110000
DTEND;TZID=America/New_York:20131020T120000
END:VEVENT
END:VCALENDAR
