BEGIN:VCALENDAR
PRODID:-//eluceo/ical//2.0/EN
VERSION:2.0
CALSCALE:GREGORIAN
BEGIN:VEVENT
UID:c22435ad6b26f5a7819196ee99dee431
DTSTAMP:20260420T141150Z
SUMMARY:11:30AM River Garden Auxiliary FUNDRAISER Special Event
DESCRIPTION:Jewish Federation & Foundation of Northeast Florida\nCommunity 
 agencies\, synagogues\, schools\nhttps://jewishjacksonville.org/jewish-com
 munity-information/1130am-river-garden-auxiliary-fundraiser-special-event\
 n\n11:30 RG Auxiliary FUNDRAISER Special Event
DTSTART;TZID=America/New_York:20140508T113000
DTEND;TZID=America/New_York:20140508T140000
END:VEVENT
END:VCALENDAR
