BEGIN:VCALENDAR
PRODID:-//eluceo/ical//2.0/EN
VERSION:2.0
CALSCALE:GREGORIAN
BEGIN:VEVENT
UID:ceb672efc02f0134af2f596cc5028c5f
DTSTAMP:20260422T174810Z
SUMMARY:11:30AM JJC B'nei Mitzvah Program - Project Runway - 6th Graders an
 d Famili
DESCRIPTION:Jewish Federation & Foundation of Northeast Florida\nCommunity 
 agencies\, synagogues\, schools\nhttps://jewishjacksonville.org/jewish-com
 munity-information/1130am-jjc-bnei-mitzvah-program---project-runway---6th-
 graders-and-families\n\n11:30AM JJC Project Runway 6th Grade and Families
DTSTART;TZID=America/New_York:20131208T110000
DTEND;TZID=America/New_York:20131208T120000
END:VEVENT
END:VCALENDAR
