BEGIN:VCALENDAR
PRODID:-//eluceo/ical//2.0/EN
VERSION:2.0
CALSCALE:GREGORIAN
BEGIN:VEVENT
UID:0aad57a7b3b105e4354ccb7df738f04b
DTSTAMP:20260421T075934Z
SUMMARY:11:30AM JFCS Converstion Cafe'
DESCRIPTION:Jewish Federation & Foundation of Northeast Florida\nCommunity 
 agencies\, synagogues\, schools\nhttps://jewishjacksonville.org/jewish-com
 munity-information/1130am-jfcs-converstion-cafe\n\n11:30AM JFCS Converstio
 n Cafe'
DTSTART;TZID=America/New_York:20140205T113000
DTEND;TZID=America/New_York:20140205T130000
END:VEVENT
END:VCALENDAR
