BEGIN:VCALENDAR
PRODID:-//eluceo/ical//2.0/EN
VERSION:2.0
CALSCALE:GREGORIAN
BEGIN:VEVENT
UID:99ffeca5bb730c340cc3356b45a7b6cf
DTSTAMP:20260422T161000Z
SUMMARY:11:15AM JJC DuBow School - Shalom Baby
DESCRIPTION:Jewish Federation & Foundation of Northeast Florida\nCommunity 
 agencies\, synagogues\, schools\nhttps://jewishjacksonville.org/jewish-com
 munity-information/1115am-jjc-dubow-school---shalom-baby\n\n11:15AM JJC Du
 Bow School - Shalom Baby
DTSTART;TZID=America/New_York:20140214T111500
DTEND;TZID=America/New_York:20140214T121500
END:VEVENT
END:VCALENDAR
