BEGIN:VCALENDAR
PRODID:-//eluceo/ical//2.0/EN
VERSION:2.0
CALSCALE:GREGORIAN
BEGIN:VEVENT
UID:8c443a920f2f2450b07bd144688e2ea0
DTSTAMP:20260425T004211Z
SUMMARY:11:00 AM Welcome to Kutsher's Screening and Brunch
DESCRIPTION:Jewish Federation & Foundation of Northeast Florida\nCommunity 
 agencies\, synagogues\, schools\nhttps://jewishjacksonville.org/jewish-com
 munity-information/1100-am-welcome-to-kutshers-screening-and-brunch-141959
 \n\nJoin us for a screening of:\n\n"Welcome to Kutsher's: The Last Catskil
 ls Resort"\n\n \n\nSunday\, June 7th at 11:00 a.m.\n\nCohen Auditorium\n\
 nRiver Garden Senior Services\n\n11401 Old St. Augustine Rd.\n\n \n\nA de
 licious bagel brunch will be served at 11:00 a.m.\n\nFilm starts at noon\
 n\n \n\nRSVP a must by June 4.\n\nIsabel: shalomjax@jewishjacksonville.or
 g\n\nMimi: 904-880-4014\n\n \n\nThis nostalgic film will bring back many 
 fond memories of summer and holidays in the Borscht Belt....
DTSTART;TZID=America/New_York:20150607T110000
DTEND;TZID=America/New_York:20150607T143000
END:VEVENT
END:VCALENDAR
