BEGIN:VCALENDAR
PRODID:-//eluceo/ical//2.0/EN
VERSION:2.0
CALSCALE:GREGORIAN
BEGIN:VEVENT
UID:68340dcf4c81a3be137c85e2c29ac532
DTSTAMP:20260423T005843Z
SUMMARY:10AM Temple 'Sit and Get Fit'
DESCRIPTION:Jewish Federation & Foundation of Northeast Florida\nCommunity 
 agencies\, synagogues\, schools\nhttps://jewishjacksonville.org/jewish-com
 munity-information/10am-temple-sit-and-get-fit5-156991\n\nLearn to Sit and
  Get Fit at the Temple. Daily at 10:00 a.m.
DTSTART;TZID=America/New_York:20150810T100000
DTEND;TZID=America/New_York:20150810T120000
END:VEVENT
END:VCALENDAR
