BEGIN:VCALENDAR
PRODID:-//eluceo/ical//2.0/EN
VERSION:2.0
CALSCALE:GREGORIAN
BEGIN:VEVENT
UID:87600e3d13d92dc656594b40bd74fc0a
DTSTAMP:20260422T002650Z
SUMMARY:10AM DuBow Preschool Programming - PS Meet and Greet
DESCRIPTION:Jewish Federation & Foundation of Northeast Florida\nCommunity 
 agencies\, synagogues\, schools\nhttps://jewishjacksonville.org/jewish-com
 munity-information/10am-dubow-preschool-programming---ps-meet-and-greet\n\
 n10AM DuBow PS Meet and Greet
DTSTART;TZID=America/New_York:20130816T100000
DTEND;TZID=America/New_York:20130816T120000
END:VEVENT
END:VCALENDAR
