BEGIN:VCALENDAR
PRODID:-//eluceo/ical//2.0/EN
VERSION:2.0
CALSCALE:GREGORIAN
BEGIN:VEVENT
UID:0bb842f373c653667d9c4b1145c5a8e3
DTSTAMP:20260422T103547Z
SUMMARY:10:30AM Temple Sukkot Worship
DESCRIPTION:Jewish Federation & Foundation of Northeast Florida\nCommunity 
 agencies\, synagogues\, schools\nhttps://jewishjacksonville.org/jewish-com
 munity-information/1030am-temple-sukkot-worship-157123\n\nSukkot Worship
DTSTART;TZID=America/New_York:20150928T103000
DTEND;TZID=America/New_York:20150928T113000
END:VEVENT
END:VCALENDAR
