BEGIN:VCALENDAR
PRODID:-//eluceo/ical//2.0/EN
VERSION:2.0
CALSCALE:GREGORIAN
BEGIN:VEVENT
UID:f5aae95d03df7a597e2edb6f18fb34b2
DTSTAMP:20260419T153913Z
SUMMARY:10:30AM Temple Rosh Hashanah Morning Worship- Children and Teens
DESCRIPTION:Jewish Federation & Foundation of Northeast Florida\nCommunity 
 agencies\, synagogues\, schools\nhttps://jewishjacksonville.org/jewish-com
 munity-information/1030am-temple-rosh-hashanah-morning-worship-children-an
 d-teens-157081\n\nRosh Hashanah Morning Worship- Children and Teens
DTSTART;TZID=America/New_York:20150914T103000
DTEND;TZID=America/New_York:20150914T130000
END:VEVENT
END:VCALENDAR
