BEGIN:VCALENDAR
PRODID:-//eluceo/ical//2.0/EN
VERSION:2.0
CALSCALE:GREGORIAN
BEGIN:VEVENT
UID:d67595a1280987f542e040fa4e326f3c
DTSTAMP:20260422T123339Z
SUMMARY:10:30AM River Garden Auxiliary board meeting
DESCRIPTION:Jewish Federation & Foundation of Northeast Florida\nCommunity 
 agencies\, synagogues\, schools\nhttps://jewishjacksonville.org/jewish-com
 munity-information/1030am-river-garden-auxiliary-board-meeting\n\n10:30AM 
 River Garden Auxiliary board meeting
DTSTART;TZID=America/New_York:20140408T103000
DTEND;TZID=America/New_York:20140408T120000
END:VEVENT
END:VCALENDAR
