BEGIN:VCALENDAR
PRODID:-//eluceo/ical//2.0/EN
VERSION:2.0
CALSCALE:GREGORIAN
BEGIN:VEVENT
UID:c7414c4824c361ffba2258c20e7cb4ee
DTSTAMP:20260423T235805Z
SUMMARY:10:30AM JJC Sisterhood Board Meeting
DESCRIPTION:Jewish Federation & Foundation of Northeast Florida\nCommunity 
 agencies\, synagogues\, schools\nhttps://jewishjacksonville.org/jewish-com
 munity-information/1030am-jjc-sisterhood-board-meeting\n\n10:30AM JJC Sist
 erhood Board Meeting
DTSTART;TZID=America/New_York:20130102T103000
DTEND;TZID=America/New_York:20130102T113000
END:VEVENT
END:VCALENDAR
