BEGIN:VCALENDAR
PRODID:-//eluceo/ical//2.0/EN
VERSION:2.0
CALSCALE:GREGORIAN
BEGIN:VEVENT
UID:dc57346d706e9ebef54d14d8a19f4883
DTSTAMP:20260426T023951Z
SUMMARY:10:30AM Champagne Brunch
DESCRIPTION:Jewish Federation & Foundation of Northeast Florida\nCommunity 
 agencies\, synagogues\, schools\nhttps://jewishjacksonville.org/jewish-com
 munity-information/1030am-champagne-brunch-278392\n\nWomen's Division Cham
 page Brunch\n\n10:30 AM\n\n 
DTSTART;TZID=America/New_York:20190106T103000
DTEND;TZID=America/New_York:20190106T120000
END:VEVENT
END:VCALENDAR
